BEGIN:VCALENDAR
VERSION:2.0
PRODID:-//wp-events-plugin.com//7.2.3.1//EN
TZID:Europe/Oslo
X-WR-TIMEZONE:Europe/Oslo
BEGIN:VEVENT
UID:163@koordinatoren.no
DTSTART;TZID=Europe/Oslo;VALUE=DATE:20260702
DTEND;TZID=Europe/Oslo;VALUE=DATE:20260703
DTSTAMP:20231208T214839Z
URL:https://www.koordinatoren.no/merkedager/syftesok-2-juli-2026-07-02/
SUMMARY:Syftesok\, 2. juli
DESCRIPTION:St. Svithun\, død 2. juli 862. Skytshelgen for Stavanger\, sky
 tshelgen mot tørke.
CATEGORIES:Primstav sommer
END:VEVENT
BEGIN:VTIMEZONE
TZID:Europe/Oslo
X-LIC-LOCATION:Europe/Oslo
BEGIN:DAYLIGHT
DTSTART:20260329T030000
TZOFFSETFROM:+0100
TZOFFSETTO:+0200
TZNAME:CEST
END:DAYLIGHT
END:VTIMEZONE
END:VCALENDAR