BEGIN:VCALENDAR
VERSION:2.0
PRODID:-//wp-events-plugin.com//7.2.3.1//EN
TZID:Europe/Oslo
X-WR-TIMEZONE:Europe/Oslo
BEGIN:VEVENT
UID:134@koordinatoren.no
DTSTART;TZID=Europe/Oslo;VALUE=DATE:20300621
DTEND;TZID=Europe/Oslo;VALUE=DATE:20300622
DTSTAMP:20231208T211642Z
URL:https://www.koordinatoren.no/merkedager/sommersolverv-21-juni-2030-06-
 21/
SUMMARY:Sommersolverv\, 21. juni
DESCRIPTION:Sommersolverv\, sommersolsnu. Fra gammelt: Midtsommerblot\, sto
 rt offer. Onde makter var på ferde\, og man brant bål for å holde dem u
 nna.
CATEGORIES:Primstav sommer
END:VEVENT
BEGIN:VTIMEZONE
TZID:Europe/Oslo
X-LIC-LOCATION:Europe/Oslo
BEGIN:DAYLIGHT
DTSTART:20300331T030000
TZOFFSETFROM:+0100
TZOFFSETTO:+0200
TZNAME:CEST
END:DAYLIGHT
END:VTIMEZONE
END:VCALENDAR