BEGIN:VCALENDAR
VERSION:2.0
PRODID:-//wp-events-plugin.com//7.2.3.1//EN
TZID:Europe/Oslo
X-WR-TIMEZONE:Europe/Oslo
BEGIN:VEVENT
UID:246@koordinatoren.no
DTSTART;TZID=Europe/Oslo;VALUE=DATE:20300727
DTEND;TZID=Europe/Oslo;VALUE=DATE:20300728
DTSTAMP:20231208T223921Z
URL:https://www.koordinatoren.no/merkedager/sjusoverdagen-27-juli-2030-07-
 27/
SUMMARY:Sjusoverdagen\, 27. juli
DESCRIPTION:Til minne om sju kristne brødre fra Efesos som i år 251 ble i
 nnestengt i en hule. Da hulen ble åpnet 200 år senere ble de funnet sove
 nde\, men da de ble vekt\, falt de døde om.
CATEGORIES:Primstav sommer
END:VEVENT
BEGIN:VTIMEZONE
TZID:Europe/Oslo
X-LIC-LOCATION:Europe/Oslo
BEGIN:DAYLIGHT
DTSTART:20300331T030000
TZOFFSETFROM:+0100
TZOFFSETTO:+0200
TZNAME:CEST
END:DAYLIGHT
END:VTIMEZONE
END:VCALENDAR