BEGIN:VCALENDAR
VERSION:2.0
PRODID:-//wp-events-plugin.com//7.2.3.1//EN
TZID:Europe/Oslo
X-WR-TIMEZONE:Europe/Oslo
BEGIN:VEVENT
UID:181@koordinatoren.no
DTSTART;TZID=Europe/Oslo;VALUE=DATE:20330708
DTEND;TZID=Europe/Oslo;VALUE=DATE:20330709
DTSTAMP:20231208T215512Z
URL:https://www.koordinatoren.no/merkedager/seljumannamesse-8-juli-2033-07
 -08/
SUMMARY:Seljumannamesse\, 8. juli
DESCRIPTION:Seljumannamesse\, til minne om St. Sunniva\, irsk kongsdatter s
 om døde som martyr på øya Selje ved Stadt. 
CATEGORIES:Primstav sommer
END:VEVENT
BEGIN:VTIMEZONE
TZID:Europe/Oslo
X-LIC-LOCATION:Europe/Oslo
BEGIN:DAYLIGHT
DTSTART:20330327T030000
TZOFFSETFROM:+0100
TZOFFSETTO:+0200
TZNAME:CEST
END:DAYLIGHT
END:VTIMEZONE
END:VCALENDAR