BEGIN:VCALENDAR
VERSION:2.0
PRODID:-//wp-events-plugin.com//7.2.3.1//EN
TZID:Europe/Oslo
X-WR-TIMEZONE:Europe/Oslo
BEGIN:VEVENT
UID:152@koordinatoren.no
DTSTART;TZID=Europe/Oslo;VALUE=DATE:20260629
DTEND;TZID=Europe/Oslo;VALUE=DATE:20260630
DTSTAMP:20231208T214257Z
URL:https://www.koordinatoren.no/merkedager/persok-29-juni-2026-06-29/
SUMMARY:Persok\, 29. juni
DESCRIPTION:Petersmesse\, persok: Til minne om apostlene Peter og Paulus so
 m døde under keiser Neros forfølgelse av kristne i år 67.
CATEGORIES:Primstav sommer
END:VEVENT
BEGIN:VTIMEZONE
TZID:Europe/Oslo
X-LIC-LOCATION:Europe/Oslo
BEGIN:DAYLIGHT
DTSTART:20260329T030000
TZOFFSETFROM:+0100
TZOFFSETTO:+0200
TZNAME:CEST
END:DAYLIGHT
END:VTIMEZONE
END:VCALENDAR