BEGIN:VCALENDAR
VERSION:2.0
PRODID:-//wp-events-plugin.com//7.2.3.1//EN
TZID:Europe/Oslo
X-WR-TIMEZONE:Europe/Oslo
BEGIN:VEVENT
UID:609@koordinatoren.no
DTSTART;TZID=Europe/Oslo;VALUE=DATE:20281206
DTEND;TZID=Europe/Oslo;VALUE=DATE:20281207
DTSTAMP:20231209T205632Z
URL:https://www.koordinatoren.no/merkedager/nilsmesse-nikolausdagen-6-dese
 mber-2028-12-06/
SUMMARY:Nilsmesse\, Nikolausdagen\, 6. desember
DESCRIPTION:Nikolas av Myra (Nicolaus\, Nicolas\, Niklas\, Klaus\, Nils) va
 r vernehelgen for sjøfolk og ble feiret med spel og drikk i Norge.
CATEGORIES:Primstaven vinter
END:VEVENT
BEGIN:VTIMEZONE
TZID:Europe/Oslo
X-LIC-LOCATION:Europe/Oslo
BEGIN:STANDARD
DTSTART:20281029T020000
TZOFFSETFROM:+0200
TZOFFSETTO:+0100
TZNAME:CET
END:STANDARD
END:VTIMEZONE
END:VCALENDAR