BEGIN:VCALENDAR
VERSION:2.0
PRODID:-//wp-events-plugin.com//7.2.3.1//EN
TZID:Europe/Oslo
X-WR-TIMEZONE:Europe/Oslo
BEGIN:VEVENT
UID:417@koordinatoren.no
DTSTART;TZID=Europe/Oslo;VALUE=DATE:20250929
DTEND;TZID=Europe/Oslo;VALUE=DATE:20250930
DTSTAMP:20231209T002759Z
URL:https://www.koordinatoren.no/merkedager/mikkelsmesse-29-september-2025
 -09-29/
SUMMARY:Mikkelsmesse\, 29. september
DESCRIPTION:Mikkelsmesse\, erkeengelen Mikaels dag. Helligdag i Norge frem 
 til 1770.
CATEGORIES:Primstav sommer
END:VEVENT
BEGIN:VTIMEZONE
TZID:Europe/Oslo
X-LIC-LOCATION:Europe/Oslo
BEGIN:DAYLIGHT
DTSTART:20250330T030000
TZOFFSETFROM:+0100
TZOFFSETTO:+0200
TZNAME:CEST
END:DAYLIGHT
END:VTIMEZONE
END:VCALENDAR