BEGIN:VCALENDAR
VERSION:2.0
PRODID:-//wp-events-plugin.com//7.2.3.1//EN
TZID:Europe/Oslo
X-WR-TIMEZONE:Europe/Oslo
BEGIN:VEVENT
UID:200@koordinatoren.no
DTSTART;TZID=Europe/Oslo;VALUE=DATE:20280714
DTEND;TZID=Europe/Oslo;VALUE=DATE:20280715
DTSTAMP:20231208T221522Z
URL:https://www.koordinatoren.no/merkedager/midtsommersdag-14-juli-2028-07
 -14/
SUMMARY:Midtsommersdag\, 14. juli
DESCRIPTION:Datoen ligger midt i sommerhalvåret (fra 14. april til 14. okt
 ober).
CATEGORIES:Primstav sommer
END:VEVENT
BEGIN:VTIMEZONE
TZID:Europe/Oslo
X-LIC-LOCATION:Europe/Oslo
BEGIN:DAYLIGHT
DTSTART:20280326T030000
TZOFFSETFROM:+0100
TZOFFSETTO:+0200
TZNAME:CEST
END:DAYLIGHT
END:VTIMEZONE
END:VCALENDAR