BEGIN:VCALENDAR
VERSION:2.0
PRODID:-//wp-events-plugin.com//7.2.3.1//EN
TZID:Europe/Oslo
X-WR-TIMEZONE:Europe/Oslo
BEGIN:VEVENT
UID:407@koordinatoren.no
DTSTART;TZID=Europe/Oslo;VALUE=DATE:20270921
DTEND;TZID=Europe/Oslo;VALUE=DATE:20270922
DTSTAMP:20231209T002311Z
URL:https://www.koordinatoren.no/merkedager/mattismesse-21-september-2027-
 09-21/
SUMMARY:Mattismesse\, 21. september
DESCRIPTION:Mattismesse\, Mattisdag\, Mateusmesse: Til minne om Apostelen M
 atteus som led martyrdøden i Persia.
CATEGORIES:Primstav sommer
END:VEVENT
BEGIN:VTIMEZONE
TZID:Europe/Oslo
X-LIC-LOCATION:Europe/Oslo
BEGIN:DAYLIGHT
DTSTART:20270328T030000
TZOFFSETFROM:+0100
TZOFFSETTO:+0200
TZNAME:CEST
END:DAYLIGHT
END:VTIMEZONE
END:VCALENDAR