BEGIN:VCALENDAR
VERSION:2.0
PRODID:-//wp-events-plugin.com//7.2.3.1//EN
TZID:Europe/Oslo
X-WR-TIMEZONE:Europe/Oslo
BEGIN:VEVENT
UID:296@koordinatoren.no
DTSTART;TZID=Europe/Oslo;VALUE=DATE:20240815
DTEND;TZID=Europe/Oslo;VALUE=DATE:20240816
DTSTAMP:20231208T231012Z
URL:https://www.koordinatoren.no/merkedager/marimesse-forre-15-august-2024
 -08-15/
SUMMARY:Marimesse førre\, 15. august
DESCRIPTION:Marias himmelfart\, Marimesse førre: Til minne om Jomfru Maria
 s himmelferd.
CATEGORIES:Primstav sommer
END:VEVENT
BEGIN:VTIMEZONE
TZID:Europe/Oslo
X-LIC-LOCATION:Europe/Oslo
BEGIN:DAYLIGHT
DTSTART:20240331T030000
TZOFFSETFROM:+0100
TZOFFSETTO:+0200
TZNAME:CEST
END:DAYLIGHT
END:VTIMEZONE
END:VCALENDAR