BEGIN:VCALENDAR
VERSION:2.0
PRODID:-//wp-events-plugin.com//7.2.3.1//EN
TZID:Europe/Oslo
X-WR-TIMEZONE:Europe/Oslo
BEGIN:VEVENT
UID:57@koordinatoren.no
DTSTART;TZID=Europe/Oslo;VALUE=DATE:20320416
DTEND;TZID=Europe/Oslo;VALUE=DATE:20320417
DTSTAMP:20231208T195437Z
URL:https://www.koordinatoren.no/merkedager/magnusmesse-16-april-2032-04-1
 6/
SUMMARY:Magnusmesse\, 16. april
DESCRIPTION:Magnusmesse: Magnus Erlendsson (Magnus Orknøyjarl)\, drept und
 er strid med sin fetter Håkon Pålsson i år 1115.
CATEGORIES:Primstav sommer
END:VEVENT
BEGIN:VTIMEZONE
TZID:Europe/Oslo
X-LIC-LOCATION:Europe/Oslo
BEGIN:DAYLIGHT
DTSTART:20320328T030000
TZOFFSETFROM:+0100
TZOFFSETTO:+0200
TZNAME:CEST
END:DAYLIGHT
END:VTIMEZONE
END:VCALENDAR