BEGIN:VCALENDAR
VERSION:2.0
PRODID:-//wp-events-plugin.com//7.2.3.1//EN
TZID:Europe/Oslo
X-WR-TIMEZONE:Europe/Oslo
BEGIN:VEVENT
UID:396@koordinatoren.no
DTSTART;TZID=Europe/Oslo;VALUE=DATE:20280914
DTEND;TZID=Europe/Oslo;VALUE=DATE:20280915
DTSTAMP:20231209T001645Z
URL:https://www.koordinatoren.no/merkedager/lille-korsmesse-14-september-2
 028-09-14/
SUMMARY:Lille korsmesse\, 14. september
DESCRIPTION:Korsmesse\, lille korsmesse\, høstkorsmesse
CATEGORIES:Primstav sommer
END:VEVENT
BEGIN:VTIMEZONE
TZID:Europe/Oslo
X-LIC-LOCATION:Europe/Oslo
BEGIN:DAYLIGHT
DTSTART:20280326T030000
TZOFFSETFROM:+0100
TZOFFSETTO:+0200
TZNAME:CEST
END:DAYLIGHT
END:VTIMEZONE
END:VCALENDAR