BEGIN:VCALENDAR
VERSION:2.0
PRODID:-//wp-events-plugin.com//7.2.3.1//EN
TZID:Europe/Oslo
X-WR-TIMEZONE:Europe/Oslo
BEGIN:VEVENT
UID:284@koordinatoren.no
DTSTART;TZID=Europe/Oslo;VALUE=DATE:20240810
DTEND;TZID=Europe/Oslo;VALUE=DATE:20240811
DTSTAMP:20231208T230443Z
URL:https://www.koordinatoren.no/merkedager/larsok-10-august-2024-08-10/
SUMMARY:Larsok\, 10. august
DESCRIPTION:Larsmesse\, Larsok. Helgen: St. Laurentius\, romersk martyr som
  ble brent levende.
CATEGORIES:Primstav sommer
END:VEVENT
BEGIN:VTIMEZONE
TZID:Europe/Oslo
X-LIC-LOCATION:Europe/Oslo
BEGIN:DAYLIGHT
DTSTART:20240331T030000
TZOFFSETFROM:+0100
TZOFFSETTO:+0200
TZNAME:CEST
END:DAYLIGHT
END:VTIMEZONE
END:VCALENDAR