BEGIN:VCALENDAR
VERSION:2.0
PRODID:-//wp-events-plugin.com//7.2.3.1//EN
TZID:Europe/Oslo
X-WR-TIMEZONE:Europe/Oslo
BEGIN:VEVENT
UID:80@koordinatoren.no
DTSTART;TZID=Europe/Oslo;VALUE=DATE:20330503
DTEND;TZID=Europe/Oslo;VALUE=DATE:20330504
DTSTAMP:20231208T201014Z
URL:https://www.koordinatoren.no/merkedager/korsmesse-3-mai-2033-05-03/
SUMMARY:Korsmesse\, 3. mai
DESCRIPTION:Til minne om at det hellige kors ble funnet i Jerusalem av Hele
 na\, keiser Konstantins mor (ca. 330).
CATEGORIES:Primstav sommer
END:VEVENT
BEGIN:VTIMEZONE
TZID:Europe/Oslo
X-LIC-LOCATION:Europe/Oslo
BEGIN:DAYLIGHT
DTSTART:20330327T030000
TZOFFSETFROM:+0100
TZOFFSETTO:+0200
TZNAME:CEST
END:DAYLIGHT
END:VTIMEZONE
END:VCALENDAR