BEGIN:VCALENDAR
VERSION:2.0
PRODID:-//wp-events-plugin.com//7.2.3.1//EN
TZID:Europe/Oslo
X-WR-TIMEZONE:Europe/Oslo
BEGIN:VEVENT
UID:113@koordinatoren.no
DTSTART;TZID=Europe/Oslo;VALUE=DATE:20310609
DTEND;TZID=Europe/Oslo;VALUE=DATE:20310610
DTSTAMP:20231208T210809Z
URL:https://www.koordinatoren.no/merkedager/kolumbamesse-9-juni-2031-06-09
 /
SUMMARY:Kolumbamesse\, 9. juni
DESCRIPTION:Kolumbamesse: St. Columcille. Nå går laksen opp i elvene.
CATEGORIES:Primstav sommer
END:VEVENT
BEGIN:VTIMEZONE
TZID:Europe/Oslo
X-LIC-LOCATION:Europe/Oslo
BEGIN:DAYLIGHT
DTSTART:20310330T030000
TZOFFSETFROM:+0100
TZOFFSETTO:+0200
TZNAME:CEST
END:DAYLIGHT
END:VTIMEZONE
END:VCALENDAR