BEGIN:VCALENDAR
VERSION:2.0
PRODID:-//wp-events-plugin.com//7.2.3.1//EN
TZID:Europe/Oslo
X-WR-TIMEZONE:Europe/Oslo
BEGIN:VEVENT
UID:188@koordinatoren.no
DTSTART;TZID=Europe/Oslo;VALUE=DATE:20280710
DTEND;TZID=Europe/Oslo;VALUE=DATE:20280711
DTSTAMP:20231208T220147Z
URL:https://www.koordinatoren.no/merkedager/knutsok-10-juli-2028-07-10/
SUMMARY:Knutsok\, 10. juli
DESCRIPTION:Knutsok\, for danske kong Knut den hellige som ble drept i 1086
  da han ville innføre tiendeplikt.
CATEGORIES:Primstav sommer
END:VEVENT
BEGIN:VTIMEZONE
TZID:Europe/Oslo
X-LIC-LOCATION:Europe/Oslo
BEGIN:DAYLIGHT
DTSTART:20280326T030000
TZOFFSETFROM:+0100
TZOFFSETTO:+0200
TZNAME:CEST
END:DAYLIGHT
END:VTIMEZONE
END:VCALENDAR