BEGIN:VCALENDAR
VERSION:2.0
PRODID:-//wp-events-plugin.com//7.2.3.1//EN
TZID:Europe/Oslo
X-WR-TIMEZONE:Europe/Oslo
BEGIN:VEVENT
UID:148@koordinatoren.no
DTSTART;TZID=Europe/Oslo;VALUE=DATE:20330624
DTEND;TZID=Europe/Oslo;VALUE=DATE:20330625
DTSTAMP:20231208T212556Z
URL:https://www.koordinatoren.no/merkedager/jonsok-24-juni-2033-06-24/
SUMMARY:Jonsok\, 24. juni
DESCRIPTION:Sommersolverv\, sommersolsnu. Fra gammelt: Midtsommerblot\, sto
 rt offer. Onde makter var på ferde\, og man brant bål for å holde dem u
 nna.
CATEGORIES:Primstav sommer
END:VEVENT
BEGIN:VTIMEZONE
TZID:Europe/Oslo
X-LIC-LOCATION:Europe/Oslo
BEGIN:DAYLIGHT
DTSTART:20330327T030000
TZOFFSETFROM:+0100
TZOFFSETTO:+0200
TZNAME:CEST
END:DAYLIGHT
END:VTIMEZONE
END:VCALENDAR