BEGIN:VCALENDAR
VERSION:2.0
PRODID:-//wp-events-plugin.com//7.2.3.1//EN
TZID:Europe/Oslo
X-WR-TIMEZONE:Europe/Oslo
BEGIN:VEVENT
UID:119@koordinatoren.no
DTSTART;TZID=Europe/Oslo;VALUE=DATE:20260617
DTEND;TZID=Europe/Oslo;VALUE=DATE:20260618
DTSTAMP:20231208T211232Z
URL:https://www.koordinatoren.no/merkedager/botolvsmesse-17-juni-2026-06-1
 7/
SUMMARY:Botolvsmesse\, 17. juni
DESCRIPTION:Botolfsmesse\, Botsok: St. Botolv bygget et kloster i England i
  654. I gammel tid lagtingsdag\, og det skulle ikke arbeides denne dagen.
CATEGORIES:Primstav sommer
END:VEVENT
BEGIN:VTIMEZONE
TZID:Europe/Oslo
X-LIC-LOCATION:Europe/Oslo
BEGIN:DAYLIGHT
DTSTART:20260329T030000
TZOFFSETFROM:+0100
TZOFFSETTO:+0200
TZNAME:CEST
END:DAYLIGHT
END:VTIMEZONE
END:VCALENDAR