BEGIN:VCALENDAR
VERSION:2.0
PRODID:-//wp-events-plugin.com//7.2.3.1//EN
TZID:Europe/Oslo
X-WR-TIMEZONE:Europe/Oslo
BEGIN:VEVENT
UID:442@koordinatoren.no
DTSTART;TZID=Europe/Oslo;VALUE=DATE:20260404
DTEND;TZID=Europe/Oslo;VALUE=DATE:20260405
DTSTAMP:20231209T005322Z
URL:https://www.koordinatoren.no/merkedager/ambrosiusmesse-4-april-2026-04
 -04/
SUMMARY:Ambrosiusmesse\, 4.april
DESCRIPTION:Har ikke vinteren gitt opp før\, skal den gi opp på Ambrosius
 dag.
CATEGORIES:Primstaven vinter
END:VEVENT
BEGIN:VTIMEZONE
TZID:Europe/Oslo
X-LIC-LOCATION:Europe/Oslo
BEGIN:DAYLIGHT
DTSTART:20260329T030000
TZOFFSETFROM:+0100
TZOFFSETTO:+0200
TZNAME:CEST
END:DAYLIGHT
END:VTIMEZONE
END:VCALENDAR