BEGIN:VCALENDAR
VERSION:2.0
PRODID:-//wp-events-plugin.com//7.2.3.1//EN
TZID:Europe/Oslo
X-WR-TIMEZONE:Europe/Oslo
BEGIN:VEVENT
UID:335@koordinatoren.no
DTSTART;TZID=Europe/Oslo;VALUE=DATE:20270829
DTEND;TZID=Europe/Oslo;VALUE=DATE:20270830
DTSTAMP:20231208T232407Z
URL:https://www.koordinatoren.no/merkedager/3-jernnatt-29-august-2027-08-2
 9/
SUMMARY:3. jernnatt\, 29. august
DESCRIPTION:Johannes halshogg: Til minne om Døperen Johannes som ble halsh
 ogd av Kong Herodes.
CATEGORIES:Primstav sommer
END:VEVENT
BEGIN:VTIMEZONE
TZID:Europe/Oslo
X-LIC-LOCATION:Europe/Oslo
BEGIN:DAYLIGHT
DTSTART:20270328T030000
TZOFFSETFROM:+0100
TZOFFSETTO:+0200
TZNAME:CEST
END:DAYLIGHT
END:VTIMEZONE
END:VCALENDAR